BEGIN:VCALENDAR
VERSION:2.0
PRODID:https://github.com/derhansen/sf_event_mgt
METHOD:PUBLISH
BEGIN:VEVENT
UID:35-330@www.tandem-org.de
CLASS: PUBLIC
SUMMARY:Weiterbildungstag im Rahmen des Projekts "Ahoj-Hallo"
DESCRIPTION: \n\n \n\nProgramm\n\nab 09.30 Uhr Ankunft, Imbiss\n\n10.00  Uh
 r    BegrüßungBc. Pavlína Karlovská, Leiterin DDM NýrskoIng. Libor Picka, V
 orsitzender Euroregion  Šumava - jihozápadní Čechy\n\n10.15 Uhr      Wissen
 schaftlicher Impuls: Sprachbildung im bayerisch-tschechischen Grenzraum, Dr
 . Kateřina Šichová, Universität Regensburg\n\n10.40 Uhr      Sprachanimatio
 n zum gegenseitigen Kennenlernen der Teilnehmenden\n\n11.10 Uhr      Vorste
 llung des Projekts „Ahoj-Hallo“\n\n11.30 Uhr      Praxisbeispiele und Erfah
 rungsberichte zum „Ahoj-Hallo“-Projekt:\n\n12.20 Uhr      Mittagessen, Mögl
 ichkeit die Materialien für Sprachbildung anzuschauen, individuelle Diskuss
 ion\n\n13.20 Uhr      Praktische Anwendung der Sprachanimation bei Grundsch
 ulen und Kindertagesstätten\n\n14.20 Uhr      Weitere Angebote für Grundsch
 ulen und Kindertagesstätten und Möglichkeiten der Finanzierung von grenzübe
 rschreitenden Projekten\n\n15.00 Uhr    Schlusswort und Evaluierung   \n\nD
 ie Veranstaltung wird simultan gedolmetscht.Die Teilnahme ist kostenlos.\n\
 n\n\nAnmeldung und Anmeldefrist\n\nInteressierte werden gebeten, das Anmeld
 eformular bis spätestens  3. Oktober 2025 auszufüllen. Bitte zögern Sie nic
 ht, sich frühzeitig anzumelden - die Teilnehmerzahl ist begrenzt.\n\nHier g
 eht's zur Anmeldung\n\n\n\nVeranstaltungsort\n\nDům dětí a mládežeSpolečens
 ký sál/ SaalPrap. Veitla 23340 22 Nýrsko\n\n\n\nOrganisation\n\nDie Projekt
 tage werden im Rahmen des Interreg-Projekts “Ahoj-Hallo” gemeinsam von alle
 n sechs Projektpartnern organisiert:\n\nEuroregion Šumava - jihozápadní Čec
 hy, \n\nEuregio Bayerischer Wald - Böhmerwald - Unterer Inn,\n\nEuregio Egr
 ensis Arbeitsgemeinschaft Bayern\n\nRegionální sdružení obcí a měst Euregio
  Egrensis \n\nsowie Koordinierungszentren Deutsch-Tschechischer Jugendausta
 usch Tandem in Deutschland und Tschechien.\n\n\n\nFinanzierung\n\nDer Weite
 rbildungstag wird aus Mitteln der Europäischen Union finanziert.\n\n\n\n
LOCATION:Nýrsko, Tschechische Republik
DTSTAMP:20250925T075247Z
DTSTART:20251008T080000Z
DTEND:20251008T130000Z
END:VEVENT
END:VCALENDAR
