BEGIN:VCALENDAR
VERSION:2.0
PRODID:https://github.com/derhansen/sf_event_mgt
METHOD:PUBLISH
BEGIN:VEVENT
UID:6-330@www.tandem-org.de
CLASS: PUBLIC
SUMMARY:Themenseminar für Partnereinrichtungen
DESCRIPTION:Themenseminar für Partnereinrichtungen im Bereich der beruflich
 en Bildung aus Deutschland und Tschechien
LOCATION:Nürnberg
DTSTAMP:20250422T072851Z
DTSTART:20250328T140000Z
DTEND:20250330T120000Z
END:VEVENT
END:VCALENDAR
