BEGIN:VCALENDAR
VERSION:2.0
PRODID:https://github.com/derhansen/sf_event_mgt
METHOD:PUBLISH
BEGIN:VEVENT
UID:48-330@www.tandem-org.de
CLASS: PUBLIC
SUMMARY:Online-Sprechstunde für deutsch-tschechische Sprachanimateur:innen
DESCRIPTION:
DTSTAMP:20251218T110556Z
DTSTART:20261014T160000Z
DTEND:20261014T180000Z
END:VEVENT
END:VCALENDAR
